BEGIN:VCALENDAR
VERSION:2.0
PRODID:-//Nampa First Church of the Nazarene - ECPv6.11.2.1//NONSGML v1.0//EN
CALSCALE:GREGORIAN
METHOD:PUBLISH
X-ORIGINAL-URL:https://nampafirst.org
X-WR-CALDESC:Events for Nampa First Church of the Nazarene
REFRESH-INTERVAL;VALUE=DURATION:PT1H
X-Robots-Tag:noindex
X-PUBLISHED-TTL:PT1H
BEGIN:VTIMEZONE
TZID:America/Boise
BEGIN:DAYLIGHT
TZOFFSETFROM:-0700
TZOFFSETTO:-0600
TZNAME:MDT
DTSTART:20230312T090000
END:DAYLIGHT
BEGIN:STANDARD
TZOFFSETFROM:-0600
TZOFFSETTO:-0700
TZNAME:MST
DTSTART:20231105T080000
END:STANDARD
END:VTIMEZONE
BEGIN:VEVENT
DTSTART;TZID=America/Boise:20231101T120000
DTEND;TZID=America/Boise:20231101T120000
DTSTAMP:20260420T040153
CREATED:20230905T210555Z
LAST-MODIFIED:20230905T210600Z
UID:10000281-1698840000-1698840000@nampafirst.org
SUMMARY:Corporate Prayer Times (noon)
DESCRIPTION:
URL:https://nampafirst.org/event/corporate-prayer-times-noon-8/
LOCATION:Conference Room
CATEGORIES:All Church
ATTACH;FMTTYPE=image/jpeg:https://nampafirst.org/wp-content/uploads/2023/09/Corporate-Prayer-1920x1080-1-scaled.jpg
END:VEVENT
BEGIN:VEVENT
DTSTART;TZID=America/Boise:20231029T110000
DTEND;TZID=America/Boise:20231029T110000
DTSTAMP:20260420T040153
CREATED:20231019T200955Z
LAST-MODIFIED:20231019T201001Z
UID:10000417-1698577200-1698577200@nampafirst.org
SUMMARY:Grief Share: Sundays
DESCRIPTION:GriefShare offers support to those who are mourning the loss of a loved one in a 13-week video/discussion series. Classes are on Wednesdays @ 6:30pm in room S250 and Sundays @ 11:00am in the Conference Room. There is a $15 workbook charge per person. For more details and information please call the church office or Marsha Rogers at 208-989-1098.
URL:https://nampafirst.org/event/grief-share-sundays-3/
LOCATION:Conference Room
CATEGORIES:All Church
ATTACH;FMTTYPE=image/jpeg:https://nampafirst.org/wp-content/uploads/2023/08/nfGriefShare1920x1080OnlyTitle-use-this.jpg
ORGANIZER;CN="Marsha Rogers":MAILTO:mlrogers2010@hotmail.com
END:VEVENT
BEGIN:VEVENT
DTSTART;TZID=America/Boise:20231025T183000
DTEND;TZID=America/Boise:20231025T183000
DTSTAMP:20260420T040153
CREATED:20230922T223733Z
LAST-MODIFIED:20231004T220707Z
UID:10000379-1698258600-1698258600@nampafirst.org
SUMMARY:Start Classes: Wednesdays
DESCRIPTION:The goal of our Start Classes is to help you grow in your relationship with Christ and take ownership of your discipleship. Once a series is completed\, we will repeat the series throughout the year and evaluate how effective these classes have been in meeting our Discipleship Initiative goals. These classes run from 30 minutes to an hour during our Grow Hour at 11am each Sunday in room S-4 behind the Sanctuary. \nYou are invited to participate in any or all of the following classes:  \n1.       You BELONG here! (How a relationship to Christ and a body of believers is important to your faith journey.)  \n2.       What we BELIEVE (Covering our Articles of Faith)  \n3.       BECOME your best you! (Spiritual Growth and the role of spiritual disciplines)  \n4.       “If you BUILD it\, they will come.”  (The Ministry of Serving at Nampa First)  \n5.       BAPTISM (An outward sign of an inward grace) 
URL:https://nampafirst.org/event/start-classes-wednesdays-5/
LOCATION:Conference Room
CATEGORIES:Wednesday Nights
ATTACH;FMTTYPE=image/jpeg:https://nampafirst.org/wp-content/uploads/2023/09/nfStartClasses1920x1080TitleOnly.jpg
END:VEVENT
BEGIN:VEVENT
DTSTART;TZID=America/Boise:20231025T120000
DTEND;TZID=America/Boise:20231025T120000
DTSTAMP:20260420T040153
CREATED:20230905T210504Z
LAST-MODIFIED:20230905T210511Z
UID:10000280-1698235200-1698235200@nampafirst.org
SUMMARY:Corporate Prayer Times (noon)
DESCRIPTION:
URL:https://nampafirst.org/event/corporate-prayer-times-noon-7/
LOCATION:Conference Room
CATEGORIES:All Church
ATTACH;FMTTYPE=image/jpeg:https://nampafirst.org/wp-content/uploads/2023/09/Corporate-Prayer-1920x1080-1-scaled.jpg
END:VEVENT
BEGIN:VEVENT
DTSTART;TZID=America/Boise:20231018T183000
DTEND;TZID=America/Boise:20231018T183000
DTSTAMP:20260420T040153
CREATED:20230922T223559Z
LAST-MODIFIED:20231004T220757Z
UID:10000378-1697653800-1697653800@nampafirst.org
SUMMARY:Start Classes: Wednesdays
DESCRIPTION:The goal of our Start Classes is to help you grow in your relationship with Christ and take ownership of your discipleship. Once a series is completed\, we will repeat the series throughout the year and evaluate how effective these classes have been in meeting our Discipleship Initiative goals. These classes run from 30 minutes to an hour during our Grow Hour at 11am each Sunday in room S-4 behind the Sanctuary. \nYou are invited to participate in any or all of the following classes:  \n1.       You BELONG here! (How a relationship to Christ and a body of believers is important to your faith journey.)  \n2.       What we BELIEVE (Covering our Articles of Faith)  \n3.       BECOME your best you! (Spiritual Growth and the role of spiritual disciplines)  \n4.       “If you BUILD it\, they will come.”  (The Ministry of Serving at Nampa First)  \n5.       BAPTISM (An outward sign of an inward grace) 
URL:https://nampafirst.org/event/start-classes-wednesdays-4/
LOCATION:Conference Room
CATEGORIES:Sunday Classes
ATTACH;FMTTYPE=image/jpeg:https://nampafirst.org/wp-content/uploads/2023/09/nfStartClasses1920x1080TitleOnly.jpg
END:VEVENT
BEGIN:VEVENT
DTSTART;TZID=America/Boise:20231018T120000
DTEND;TZID=America/Boise:20231018T120000
DTSTAMP:20260420T040153
CREATED:20230905T210354Z
LAST-MODIFIED:20230905T210405Z
UID:10000279-1697630400-1697630400@nampafirst.org
SUMMARY:Corporate Prayer Times (noon)
DESCRIPTION:
URL:https://nampafirst.org/event/corporate-prayer-times-noon-6/
LOCATION:Conference Room
CATEGORIES:All Church
ATTACH;FMTTYPE=image/jpeg:https://nampafirst.org/wp-content/uploads/2023/09/Corporate-Prayer-1920x1080-1-scaled.jpg
END:VEVENT
BEGIN:VEVENT
DTSTART;TZID=America/Boise:20231011T183000
DTEND;TZID=America/Boise:20231011T183000
DTSTAMP:20260420T040153
CREATED:20230922T223325Z
LAST-MODIFIED:20231004T220855Z
UID:10000377-1697049000-1697049000@nampafirst.org
SUMMARY:Start Classes: Wednesday
DESCRIPTION:The goal of our Start Classes is to help you grow in your relationship with Christ and take ownership of your discipleship. Once a series is completed\, we will repeat the series throughout the year and evaluate how effective these classes have been in meeting our Discipleship Initiative goals. These classes run from 30 minutes to an hour during our Grow Hour at 11am each Sunday in room S-4 behind the Sanctuary. \nYou are invited to participate in any or all of the following classes:  \n1.       You BELONG here! (How a relationship to Christ and a body of believers is important to your faith journey.)  \n2.       What we BELIEVE (Covering our Articles of Faith)  \n3.       BECOME your best you! (Spiritual Growth and the role of spiritual disciplines)  \n4.       “If you BUILD it\, they will come.”  (The Ministry of Serving at Nampa First)  \n5.       BAPTISM (An outward sign of an inward grace) 
URL:https://nampafirst.org/event/start-classes-wednesday/
LOCATION:Conference Room
CATEGORIES:Wednesday Nights
ATTACH;FMTTYPE=image/jpeg:https://nampafirst.org/wp-content/uploads/2023/09/nfStartClasses1920x1080TitleOnly.jpg
END:VEVENT
BEGIN:VEVENT
DTSTART;TZID=America/Boise:20231011T120000
DTEND;TZID=America/Boise:20231011T120000
DTSTAMP:20260420T040153
CREATED:20230905T210305Z
LAST-MODIFIED:20230905T210310Z
UID:10000278-1697025600-1697025600@nampafirst.org
SUMMARY:Corporate Prayer Times (noon)
DESCRIPTION:
URL:https://nampafirst.org/event/corporate-prayer-times-noon-5/
LOCATION:Conference Room
CATEGORIES:All Church
ATTACH;FMTTYPE=image/jpeg:https://nampafirst.org/wp-content/uploads/2023/09/Corporate-Prayer-1920x1080-1-scaled.jpg
END:VEVENT
BEGIN:VEVENT
DTSTART;TZID=America/Boise:20231004T120000
DTEND;TZID=America/Boise:20231004T120000
DTSTAMP:20260420T040153
CREATED:20230905T210159Z
LAST-MODIFIED:20230905T210204Z
UID:10000277-1696420800-1696420800@nampafirst.org
SUMMARY:Corporate Prayer Times (noon)
DESCRIPTION:
URL:https://nampafirst.org/event/corporate-prayer-times-noon-4/
LOCATION:Conference Room
CATEGORIES:All Church
ATTACH;FMTTYPE=image/jpeg:https://nampafirst.org/wp-content/uploads/2023/09/Corporate-Prayer-1920x1080-1-scaled.jpg
END:VEVENT
BEGIN:VEVENT
DTSTART;TZID=America/Boise:20230927T120000
DTEND;TZID=America/Boise:20230927T120000
DTSTAMP:20260420T040153
CREATED:20230905T210055Z
LAST-MODIFIED:20230905T210106Z
UID:10000276-1695816000-1695816000@nampafirst.org
SUMMARY:Corporate Prayer Times (noon)
DESCRIPTION:
URL:https://nampafirst.org/event/corporate-prayer-times-noon-3/
LOCATION:Conference Room
CATEGORIES:All Church
ATTACH;FMTTYPE=image/jpeg:https://nampafirst.org/wp-content/uploads/2023/09/Corporate-Prayer-1920x1080-1-scaled.jpg
END:VEVENT
BEGIN:VEVENT
DTSTART;TZID=America/Boise:20230920T120000
DTEND;TZID=America/Boise:20230920T120000
DTSTAMP:20260420T040153
CREATED:20230905T205948Z
LAST-MODIFIED:20230905T210016Z
UID:10000275-1695211200-1695211200@nampafirst.org
SUMMARY:Corporate Prayer Times (noon)
DESCRIPTION:
URL:https://nampafirst.org/event/corporate-prayer-times-noon-2/
LOCATION:Conference Room
CATEGORIES:All Church
ATTACH;FMTTYPE=image/jpeg:https://nampafirst.org/wp-content/uploads/2023/09/Corporate-Prayer-1920x1080-1-scaled.jpg
END:VEVENT
BEGIN:VEVENT
DTSTART;TZID=America/Boise:20230913T120000
DTEND;TZID=America/Boise:20230913T120000
DTSTAMP:20260420T040153
CREATED:20230905T205859Z
LAST-MODIFIED:20230905T205903Z
UID:10000274-1694606400-1694606400@nampafirst.org
SUMMARY:Corporate Prayer Times (noon)
DESCRIPTION:
URL:https://nampafirst.org/event/corporate-prayer-times-noon/
LOCATION:Conference Room
CATEGORIES:All Church
ATTACH;FMTTYPE=image/jpeg:https://nampafirst.org/wp-content/uploads/2023/09/Corporate-Prayer-1920x1080-1-scaled.jpg
END:VEVENT
BEGIN:VEVENT
DTSTART;TZID=America/Boise:20230910T110000
DTEND;TZID=America/Boise:20230910T110000
DTSTAMP:20260420T040153
CREATED:20230830T190400Z
LAST-MODIFIED:20230830T190724Z
UID:10000213-1694343600-1694343600@nampafirst.org
SUMMARY:Grief Share: Sundays
DESCRIPTION:Please contact Marsha Rogers at 208-989-1098 to register. $15 workbook fee.
URL:https://nampafirst.org/event/grief-share-sundays/
LOCATION:Conference Room
CATEGORIES:All Church
ATTACH;FMTTYPE=image/jpeg:https://nampafirst.org/wp-content/uploads/2023/08/nfGriefShare1920x1080OnlyTitle-use-this.jpg
ORGANIZER;CN="Marsha Rogers":MAILTO:mlrogers2010@hotmail.com
END:VEVENT
END:VCALENDAR