BEGIN:VCALENDAR
VERSION:2.0
PRODID:-//Nampa First Church of the Nazarene - ECPv6.11.2.1//NONSGML v1.0//EN
CALSCALE:GREGORIAN
METHOD:PUBLISH
X-WR-CALNAME:Nampa First Church of the Nazarene
X-ORIGINAL-URL:https://nampafirst.org
X-WR-CALDESC:Events for Nampa First Church of the Nazarene
REFRESH-INTERVAL;VALUE=DURATION:PT1H
X-Robots-Tag:noindex
X-PUBLISHED-TTL:PT1H
BEGIN:VTIMEZONE
TZID:America/Boise
BEGIN:DAYLIGHT
TZOFFSETFROM:-0700
TZOFFSETTO:-0600
TZNAME:MDT
DTSTART:20230312T090000
END:DAYLIGHT
BEGIN:STANDARD
TZOFFSETFROM:-0600
TZOFFSETTO:-0700
TZNAME:MST
DTSTART:20231105T080000
END:STANDARD
END:VTIMEZONE
BEGIN:VEVENT
DTSTART;TZID=America/Boise:20231114T090000
DTEND;TZID=America/Boise:20231114T120000
DTSTAMP:20260419T105001
CREATED:20230615T195522Z
LAST-MODIFIED:20230905T204420Z
UID:10000125-1699952400-1699963200@nampafirst.org
SUMMARY:Heart 'n' Hands Quilters
DESCRIPTION:New members at any stage of sewing/quilting ability are always welcome. For more information\, contact Kathy Emerson at 1944fernwood@gmail.com.
URL:https://nampafirst.org/event/quilters-23/
LOCATION:Nampa First Church of the Nazarene
CATEGORIES:Quilters,Women
ORGANIZER;CN="Kathy Emerson":MAILTO:1944fernwood@gmail.com
END:VEVENT
BEGIN:VEVENT
DTSTART;TZID=America/Boise:20231108T183000
DTEND;TZID=America/Boise:20231108T183000
DTSTAMP:20260419T105001
CREATED:20230830T200822Z
LAST-MODIFIED:20231013T005148Z
UID:10000242-1699468200-1699468200@nampafirst.org
SUMMARY:Moms Connect: Wednesdays
DESCRIPTION:Moms Connect will be studying the book\, Biblical Mothering: Not Your Daughter’s Sunday School where they will explore new perspectives on the passages many learned as children and share encouragement and support along the way.
URL:https://nampafirst.org/event/moms-connect-wednesdays-13/
LOCATION:CM228
CATEGORIES:Women
ATTACH;FMTTYPE=image/jpeg:https://nampafirst.org/wp-content/uploads/2023/08/Moms-Connect-Sanctuary-3.jpg
END:VEVENT
BEGIN:VEVENT
DTSTART;TZID=America/Boise:20231108T093000
DTEND;TZID=America/Boise:20231108T113000
DTSTAMP:20260419T105001
CREATED:20230906T224751Z
LAST-MODIFIED:20230906T224756Z
UID:10000333-1699435800-1699443000@nampafirst.org
SUMMARY:Women's Bible Studies
DESCRIPTION:Led by: Ann DeCloss\nA Beth Moore Study of Galatians\nWorkbook $20
URL:https://nampafirst.org/event/womens-bible-studies-26/
LOCATION:Youth Center
CATEGORIES:Women
ATTACH;FMTTYPE=image/jpeg:https://nampafirst.org/wp-content/uploads/2023/08/nfWomensBibleStudies1920x1080OnlyTitle.jpg
END:VEVENT
BEGIN:VEVENT
DTSTART;TZID=America/Boise:20231107T093000
DTEND;TZID=America/Boise:20231107T111500
DTSTAMP:20260419T105001
CREATED:20230905T221209Z
LAST-MODIFIED:20230905T221214Z
UID:10000315-1699349400-1699355700@nampafirst.org
SUMMARY:Women's Bible Studies
DESCRIPTION:Led by: Jennifer Alban\nStudying The Book Of Hebrews
URL:https://nampafirst.org/event/womens-bible-studies-9/
LOCATION:CM214
CATEGORIES:Women
ATTACH;FMTTYPE=image/jpeg:https://nampafirst.org/wp-content/uploads/2023/08/nfWomensBibleStudies1920x1080OnlyTitle.jpg
END:VEVENT
BEGIN:VEVENT
DTSTART;TZID=America/Boise:20231107T090000
DTEND;TZID=America/Boise:20231107T120000
DTSTAMP:20260419T105001
CREATED:20230615T195432Z
LAST-MODIFIED:20230905T204414Z
UID:10000124-1699347600-1699358400@nampafirst.org
SUMMARY:Heart 'n' Hands Quilters
DESCRIPTION:New members at any stage of sewing/quilting ability are always welcome. For more information\, contact Kathy Emerson at 1944fernwood@gmail.com.
URL:https://nampafirst.org/event/quilters-22/
LOCATION:Nampa First Church of the Nazarene
CATEGORIES:Quilters,Women
ORGANIZER;CN="Kathy Emerson":MAILTO:1944fernwood@gmail.com
END:VEVENT
BEGIN:VEVENT
DTSTART;TZID=America/Boise:20231104T090000
DTEND;TZID=America/Boise:20231104T120000
DTSTAMP:20260419T105001
CREATED:20231101T192934Z
LAST-MODIFIED:20231102T215918Z
UID:10000473-1699088400-1699099200@nampafirst.org
SUMMARY:Women’s Coffee & Craft
DESCRIPTION:Join us from 9am-12pm for a fantastic Saturday in the Gym. Bring your own craft or we’ll have some provided. Bring your creativity and a friend!
URL:https://nampafirst.org/event/womens-coffee-craft/
LOCATION:Gym
CATEGORIES:All Church,Women
END:VEVENT
BEGIN:VEVENT
DTSTART;TZID=America/Boise:20231101T183000
DTEND;TZID=America/Boise:20231101T183000
DTSTAMP:20260419T105001
CREATED:20230830T200244Z
LAST-MODIFIED:20231019T040330Z
UID:10000239-1698863400-1698863400@nampafirst.org
SUMMARY:Moms Connect: Wednesdays
DESCRIPTION:Moms Connect will be studying the topic\, Biblical Mothering: Not Your Daughter’s Sunday School where they will explore new perspectives on the passages many learned as children and share encouragement and support along the way.
URL:https://nampafirst.org/event/moms-connect-wednesdays-10/
LOCATION:CM228
CATEGORIES:Women
ATTACH;FMTTYPE=image/jpeg:https://nampafirst.org/wp-content/uploads/2023/08/Moms-Connect-Sanctuary-3.jpg
END:VEVENT
BEGIN:VEVENT
DTSTART;TZID=America/Boise:20231101T093000
DTEND;TZID=America/Boise:20231101T113000
DTSTAMP:20260419T105001
CREATED:20230906T224500Z
LAST-MODIFIED:20230906T224500Z
UID:10000332-1698831000-1698838200@nampafirst.org
SUMMARY:Women's Bible Studies
DESCRIPTION:Led by: Ann DeCloss\nA Beth Moore Study of Galatians\nWorkbook $20
URL:https://nampafirst.org/event/womens-bible-studies-25/
LOCATION:Youth Center
CATEGORIES:Women
ATTACH;FMTTYPE=image/jpeg:https://nampafirst.org/wp-content/uploads/2023/08/nfWomensBibleStudies1920x1080OnlyTitle.jpg
END:VEVENT
BEGIN:VEVENT
DTSTART;TZID=America/Boise:20231031T093000
DTEND;TZID=America/Boise:20231031T111500
DTSTAMP:20260419T105001
CREATED:20230905T221031Z
LAST-MODIFIED:20230905T221038Z
UID:10000314-1698744600-1698750900@nampafirst.org
SUMMARY:Women's Bible Study
DESCRIPTION:Led by: Jennifer Alban\nStudying The Book Of Hebrews
URL:https://nampafirst.org/event/womens-bible-study-2/
LOCATION:CM214
CATEGORIES:Women
ATTACH;FMTTYPE=image/jpeg:https://nampafirst.org/wp-content/uploads/2023/08/nfWomensBibleStudies1920x1080OnlyTitle.jpg
END:VEVENT
BEGIN:VEVENT
DTSTART;TZID=America/Boise:20231031T090000
DTEND;TZID=America/Boise:20231031T120000
DTSTAMP:20260419T105001
CREATED:20230615T195327Z
LAST-MODIFIED:20230905T204408Z
UID:10000123-1698742800-1698753600@nampafirst.org
SUMMARY:Heart 'n' Hands Quilters
DESCRIPTION:New members at any stage of sewing/quilting ability are always welcome. For more information\, contact Kathy Emerson at 1944fernwood@gmail.com.
URL:https://nampafirst.org/event/quilters-21/
LOCATION:Nampa First Church of the Nazarene
CATEGORIES:Quilters,Women
ORGANIZER;CN="Kathy Emerson":MAILTO:1944fernwood@gmail.com
END:VEVENT
BEGIN:VEVENT
DTSTART;TZID=America/Boise:20231026T093000
DTEND;TZID=America/Boise:20231026T093000
DTSTAMP:20260419T105001
CREATED:20230901T231452Z
LAST-MODIFIED:20231019T035255Z
UID:10000269-1698312600-1698312600@nampafirst.org
SUMMARY:Moms Connect: 2nd & 4th Thursdays
DESCRIPTION:Moms Connect will be studying the topic\, Biblical Mothering: Not Your Daughter’s Sunday School where they will explore new perspectives on the passages many learned as children and share encouragement and support along the way.
URL:https://nampafirst.org/event/moms-connect-2nd-4th-thursdays-3/
LOCATION:CM228
CATEGORIES:Women
ATTACH;FMTTYPE=image/jpeg:https://nampafirst.org/wp-content/uploads/2023/08/Moms-Connect-Sanctuary-3.jpg
END:VEVENT
BEGIN:VEVENT
DTSTART;TZID=America/Boise:20231025T183000
DTEND;TZID=America/Boise:20231025T183000
DTSTAMP:20260419T105001
CREATED:20230830T200100Z
LAST-MODIFIED:20231019T035339Z
UID:10000238-1698258600-1698258600@nampafirst.org
SUMMARY:Moms Connect: Wednesdays
DESCRIPTION:Moms Connect will be studying the topic\, Biblical Mothering: Not Your Daughter’s Sunday School where they will explore new perspectives on the passages many learned as children and share encouragement and support along the way.
URL:https://nampafirst.org/event/moms-connect-wednesdays-9/
LOCATION:CM228
CATEGORIES:Women
ATTACH;FMTTYPE=image/jpeg:https://nampafirst.org/wp-content/uploads/2023/08/Moms-Connect-Sanctuary-3.jpg
END:VEVENT
BEGIN:VEVENT
DTSTART;TZID=America/Boise:20231025T093000
DTEND;TZID=America/Boise:20231025T113000
DTSTAMP:20260419T105001
CREATED:20230906T224159Z
LAST-MODIFIED:20230906T224206Z
UID:10000331-1698226200-1698233400@nampafirst.org
SUMMARY:Women's Bible Studies
DESCRIPTION:Led by: Ann DeCloss\nA Beth Moore Study of Galatians\nWorkbook $20
URL:https://nampafirst.org/event/womens-bible-studies-24/
LOCATION:Youth Center
CATEGORIES:Women
ATTACH;FMTTYPE=image/jpeg:https://nampafirst.org/wp-content/uploads/2023/08/nfWomensBibleStudies1920x1080OnlyTitle.jpg
END:VEVENT
BEGIN:VEVENT
DTSTART;TZID=America/Boise:20231024T093000
DTEND;TZID=America/Boise:20231024T111500
DTSTAMP:20260419T105001
CREATED:20230905T220859Z
LAST-MODIFIED:20230905T220904Z
UID:10000313-1698139800-1698146100@nampafirst.org
SUMMARY:Women's Bible Studies
DESCRIPTION:Led by: Jennifer Alban\nStudying The Book Of Hebrews
URL:https://nampafirst.org/event/womens-bible-studies-8/
LOCATION:CM214
CATEGORIES:Women
ATTACH;FMTTYPE=image/jpeg:https://nampafirst.org/wp-content/uploads/2023/08/nfWomensBibleStudies1920x1080OnlyTitle.jpg
END:VEVENT
BEGIN:VEVENT
DTSTART;TZID=America/Boise:20231024T090000
DTEND;TZID=America/Boise:20231024T120000
DTSTAMP:20260419T105001
CREATED:20230615T195245Z
LAST-MODIFIED:20230905T204401Z
UID:10000122-1698138000-1698148800@nampafirst.org
SUMMARY:Heart 'n' Hands Quilters
DESCRIPTION:New members at any stage of sewing/quilting ability are always welcome. For more information\, contact Kathy Emerson at 1944fernwood@gmail.com.
URL:https://nampafirst.org/event/quilters-20/
CATEGORIES:Quilters,Women
ORGANIZER;CN="Kathy Emerson":MAILTO:1944fernwood@gmail.com
END:VEVENT
BEGIN:VEVENT
DTSTART;TZID=America/Boise:20231018T183000
DTEND;TZID=America/Boise:20231018T183000
DTSTAMP:20260419T105002
CREATED:20230830T195511Z
LAST-MODIFIED:20231012T235611Z
UID:10000236-1697653800-1697653800@nampafirst.org
SUMMARY:Moms Connect: Wednesdays
DESCRIPTION:Moms Connect will be studying the book\, Biblical Mothering: Not Your Daughter’s Sunday School where they will explore new perspectives on the passages many learned as children and share encouragement and support along the way.
URL:https://nampafirst.org/event/moms-connect-wednesdays-7/
LOCATION:CM228
CATEGORIES:Women
ATTACH;FMTTYPE=image/jpeg:https://nampafirst.org/wp-content/uploads/2023/08/Moms-Connect-Sanctuary-3.jpg
END:VEVENT
BEGIN:VEVENT
DTSTART;TZID=America/Boise:20231018T093000
DTEND;TZID=America/Boise:20231018T113000
DTSTAMP:20260419T105002
CREATED:20230906T224030Z
LAST-MODIFIED:20230906T224030Z
UID:10000330-1697621400-1697628600@nampafirst.org
SUMMARY:Women's Bible Studies
DESCRIPTION:Led by: Ann DeCloss\nA Beth Moore Study of Galatians\nWorkbook $20
URL:https://nampafirst.org/event/womens-bible-studies-23/
LOCATION:Youth Center
CATEGORIES:Women
ATTACH;FMTTYPE=image/jpeg:https://nampafirst.org/wp-content/uploads/2023/08/nfWomensBibleStudies1920x1080OnlyTitle.jpg
END:VEVENT
BEGIN:VEVENT
DTSTART;TZID=America/Boise:20231017T093000
DTEND;TZID=America/Boise:20231017T111500
DTSTAMP:20260419T105002
CREATED:20230905T220752Z
LAST-MODIFIED:20230905T220759Z
UID:10000312-1697535000-1697541300@nampafirst.org
SUMMARY:Women's Bible Studies
DESCRIPTION:Led by: Jennifer Alban\nStudying The Book Of Hebrews
URL:https://nampafirst.org/event/womens-bible-studies-7/
LOCATION:CM214
CATEGORIES:Women
ATTACH;FMTTYPE=image/jpeg:https://nampafirst.org/wp-content/uploads/2023/08/nfWomensBibleStudies1920x1080OnlyTitle.jpg
END:VEVENT
BEGIN:VEVENT
DTSTART;TZID=America/Boise:20231017T090000
DTEND;TZID=America/Boise:20231017T120000
DTSTAMP:20260419T105002
CREATED:20230615T195217Z
LAST-MODIFIED:20230905T204354Z
UID:10000121-1697533200-1697544000@nampafirst.org
SUMMARY:Heart 'n' Hands Quilters
DESCRIPTION:New members at any stage of sewing/quilting ability are always welcome. For more information\, contact Kathy Emerson at 1944fernwood@gmail.com.
URL:https://nampafirst.org/event/quilters-19/
CATEGORIES:Quilters,Women
ORGANIZER;CN="Kathy Emerson":MAILTO:1944fernwood@gmail.com
END:VEVENT
BEGIN:VEVENT
DTSTART;TZID=America/Boise:20231012T093000
DTEND;TZID=America/Boise:20231012T093000
DTSTAMP:20260419T105002
CREATED:20230901T231326Z
LAST-MODIFIED:20231013T004522Z
UID:10000268-1697103000-1697103000@nampafirst.org
SUMMARY:Moms Connect: 2nd & 4th Thursdays
DESCRIPTION:Moms Connect will be studying the book\, Biblical Mothering: Not Your Daughter’s Sunday School where they will explore new perspectives on the passages many learned as children and share encouragement and support along the way.
URL:https://nampafirst.org/event/moms-connect-2nd-4th-thursdays-2/
LOCATION:CM228
CATEGORIES:Women
ATTACH;FMTTYPE=image/jpeg:https://nampafirst.org/wp-content/uploads/2023/08/Moms-Connect-Sanctuary-3.jpg
END:VEVENT
BEGIN:VEVENT
DTSTART;TZID=America/Boise:20231011T183000
DTEND;TZID=America/Boise:20231011T183000
DTSTAMP:20260419T105002
CREATED:20230830T195313Z
LAST-MODIFIED:20230916T030504Z
UID:10000235-1697049000-1697049000@nampafirst.org
SUMMARY:Mom's Connect: Wednesdays
DESCRIPTION:Mom’s Connect. Biblical Mothering: Not Your Daughter’s Sunday School.
URL:https://nampafirst.org/event/moms-connect-wednesdays-6/
LOCATION:CM228
CATEGORIES:Women
ATTACH;FMTTYPE=image/jpeg:https://nampafirst.org/wp-content/uploads/2023/08/Moms-Connect-Sanctuary-3.jpg
END:VEVENT
BEGIN:VEVENT
DTSTART;TZID=America/Boise:20231011T093000
DTEND;TZID=America/Boise:20231011T113000
DTSTAMP:20260419T105002
CREATED:20230906T223900Z
LAST-MODIFIED:20230906T223905Z
UID:10000329-1697016600-1697023800@nampafirst.org
SUMMARY:Women's Bible Studies
DESCRIPTION:Led by: Ann DeCloss\nA Beth Moore Study of Galatians\nWorkbook $20
URL:https://nampafirst.org/event/womens-bible-studies-22/
LOCATION:Youth Center
CATEGORIES:Women
ATTACH;FMTTYPE=image/jpeg:https://nampafirst.org/wp-content/uploads/2023/08/nfWomensBibleStudies1920x1080OnlyTitle.jpg
END:VEVENT
BEGIN:VEVENT
DTSTART;TZID=America/Boise:20231010T093000
DTEND;TZID=America/Boise:20231010T111500
DTSTAMP:20260419T105002
CREATED:20230905T220556Z
LAST-MODIFIED:20230905T220600Z
UID:10000311-1696930200-1696936500@nampafirst.org
SUMMARY:Women's Bible Study
DESCRIPTION:Led by: Jennifer Alban\nStudying The Book Of Hebrews
URL:https://nampafirst.org/event/womens-bible-study/
LOCATION:CM214
CATEGORIES:Women
ATTACH;FMTTYPE=image/jpeg:https://nampafirst.org/wp-content/uploads/2023/08/nfWomensBibleStudies1920x1080OnlyTitle.jpg
END:VEVENT
BEGIN:VEVENT
DTSTART;TZID=America/Boise:20231010T090000
DTEND;TZID=America/Boise:20231010T120000
DTSTAMP:20260419T105002
CREATED:20230615T195022Z
LAST-MODIFIED:20230905T204347Z
UID:10000120-1696928400-1696939200@nampafirst.org
SUMMARY:Heart 'n' Hands Quilters
DESCRIPTION:New members at any stage of sewing/quilting ability are always welcome. For more information\, contact Kathy Emerson at 1944fernwood@gmail.com.
URL:https://nampafirst.org/event/quilters-18/
CATEGORIES:Quilters,Women
ORGANIZER;CN="Kathy Emerson":MAILTO:1944fernwood@gmail.com
END:VEVENT
BEGIN:VEVENT
DTSTART;TZID=America/Boise:20231004T183000
DTEND;TZID=America/Boise:20231004T183000
DTSTAMP:20260419T105002
CREATED:20230830T194926Z
LAST-MODIFIED:20230916T030537Z
UID:10000234-1696444200-1696444200@nampafirst.org
SUMMARY:Mom's Connect Wednesdays
DESCRIPTION:Mom’s Connect. Biblical Mothering: Not Your Daughter’s Sunday School.
URL:https://nampafirst.org/event/moms-connect-wednesdays-5/
LOCATION:CM228
CATEGORIES:Women
ATTACH;FMTTYPE=image/jpeg:https://nampafirst.org/wp-content/uploads/2023/08/Moms-Connect-Sanctuary-3.jpg
END:VEVENT
BEGIN:VEVENT
DTSTART;TZID=America/Boise:20231004T093000
DTEND;TZID=America/Boise:20231004T113000
DTSTAMP:20260419T105002
CREATED:20230906T223520Z
LAST-MODIFIED:20230906T223526Z
UID:10000328-1696411800-1696419000@nampafirst.org
SUMMARY:Women's Bible Study
DESCRIPTION:Led by: Ann DeCloss\nA Beth Moore Study of Galatians\nWorkbook $20
URL:https://nampafirst.org/event/womens-bible-study-3/
LOCATION:Youth Center
CATEGORIES:Women
ATTACH;FMTTYPE=image/jpeg:https://nampafirst.org/wp-content/uploads/2023/08/nfWomensBibleStudies1920x1080OnlyTitle.jpg
END:VEVENT
BEGIN:VEVENT
DTSTART;TZID=America/Boise:20231003T093000
DTEND;TZID=America/Boise:20231003T111500
DTSTAMP:20260419T105002
CREATED:20230905T220431Z
LAST-MODIFIED:20230905T220634Z
UID:10000310-1696325400-1696331700@nampafirst.org
SUMMARY:Women's Bible Studies
DESCRIPTION:Led by: Jennifer Alban\nStudying The Book Of Hebrews
URL:https://nampafirst.org/event/womens-bible-studies-6/
LOCATION:CM214
CATEGORIES:Women
ATTACH;FMTTYPE=image/jpeg:https://nampafirst.org/wp-content/uploads/2023/08/nfWomensBibleStudies1920x1080OnlyTitle.jpg
END:VEVENT
BEGIN:VEVENT
DTSTART;TZID=America/Boise:20231003T090000
DTEND;TZID=America/Boise:20231003T120000
DTSTAMP:20260419T105002
CREATED:20230615T194941Z
LAST-MODIFIED:20230905T204341Z
UID:10000119-1696323600-1696334400@nampafirst.org
SUMMARY:Heart 'n' Hands Quilters
DESCRIPTION:New members at any stage of sewing/quilting ability are always welcome. For more information\, contact Kathy Emerson at 1944fernwood@gmail.com.
URL:https://nampafirst.org/event/quilters-17/
LOCATION:Nampa First Church of the Nazarene
CATEGORIES:Quilters,Women
ORGANIZER;CN="Kathy Emerson":MAILTO:1944fernwood@gmail.com
END:VEVENT
BEGIN:VEVENT
DTSTART;TZID=America/Boise:20230928T093000
DTEND;TZID=America/Boise:20230928T093000
DTSTAMP:20260419T105002
CREATED:20230901T231203Z
LAST-MODIFIED:20231013T004544Z
UID:10000267-1695893400-1695893400@nampafirst.org
SUMMARY:Moms Connect 2nd & 4th Thursdays
DESCRIPTION:Moms Connect will be studying the book\, Biblical Mothering: Not Your Daughter’s Sunday School where they will explore new perspectives on the passages many learned as children and share encouragement and support along the way.
URL:https://nampafirst.org/event/moms-connect-2nd-4th-thursdays/
LOCATION:CM228
CATEGORIES:Women
ATTACH;FMTTYPE=image/jpeg:https://nampafirst.org/wp-content/uploads/2023/08/Moms-Connect-Sanctuary-3.jpg
END:VEVENT
BEGIN:VEVENT
DTSTART;TZID=America/Boise:20230927T183000
DTEND;TZID=America/Boise:20230927T183000
DTSTAMP:20260419T105002
CREATED:20230830T194802Z
LAST-MODIFIED:20230916T030613Z
UID:10000233-1695839400-1695839400@nampafirst.org
SUMMARY:Mom's Connect: Wednesdays
DESCRIPTION:Mom’s Connect. Biblical Mothering: Not Your Daughter’s Sunday School.
URL:https://nampafirst.org/event/moms-connect-wednesdays-4/
LOCATION:CM228
CATEGORIES:Women
ATTACH;FMTTYPE=image/jpeg:https://nampafirst.org/wp-content/uploads/2023/08/Moms-Connect-Sanctuary-3.jpg
END:VEVENT
END:VCALENDAR