BEGIN:VCALENDAR
VERSION:2.0
PRODID:-//Nampa First Church of the Nazarene - ECPv6.11.2.1//NONSGML v1.0//EN
CALSCALE:GREGORIAN
METHOD:PUBLISH
X-WR-CALNAME:Nampa First Church of the Nazarene
X-ORIGINAL-URL:https://nampafirst.org
X-WR-CALDESC:Events for Nampa First Church of the Nazarene
REFRESH-INTERVAL;VALUE=DURATION:PT1H
X-Robots-Tag:noindex
X-PUBLISHED-TTL:PT1H
BEGIN:VTIMEZONE
TZID:America/Boise
BEGIN:DAYLIGHT
TZOFFSETFROM:-0700
TZOFFSETTO:-0600
TZNAME:MDT
DTSTART:20250309T090000
END:DAYLIGHT
BEGIN:STANDARD
TZOFFSETFROM:-0600
TZOFFSETTO:-0700
TZNAME:MST
DTSTART:20251102T080000
END:STANDARD
END:VTIMEZONE
BEGIN:VEVENT
DTSTART;TZID=America/Boise:20250207T183000
DTEND;TZID=America/Boise:20250207T200000
DTSTAMP:20260419T232125
CREATED:20250130T233422Z
LAST-MODIFIED:20250130T233422Z
UID:10001378-1738953000-1738958400@nampafirst.org
SUMMARY:Galentine's Bunco
DESCRIPTION:
URL:https://nampafirst.org/event/galentines-bunco/
LOCATION:Gym
CATEGORIES:Women
END:VEVENT
BEGIN:VEVENT
DTSTART;TZID=America/Boise:20250218T133000
DTEND;TZID=America/Boise:20250218T153000
DTSTAMP:20260419T232125
CREATED:20240926T172116Z
LAST-MODIFIED:20250211T175403Z
UID:10001130-1739885400-1739892600@nampafirst.org
SUMMARY:Lydia Women's Mission Group
DESCRIPTION:
URL:https://nampafirst.org/event/lydia-womens-mission-group-2/
LOCATION:Parlor
CATEGORIES:Missions,Women
END:VEVENT
END:VCALENDAR