BEGIN:VCALENDAR
VERSION:2.0
PRODID:-//Nampa First Church of the Nazarene - ECPv6.11.2.1//NONSGML v1.0//EN
CALSCALE:GREGORIAN
METHOD:PUBLISH
X-ORIGINAL-URL:https://nampafirst.org
X-WR-CALDESC:Events for Nampa First Church of the Nazarene
REFRESH-INTERVAL;VALUE=DURATION:PT1H
X-Robots-Tag:noindex
X-PUBLISHED-TTL:PT1H
BEGIN:VTIMEZONE
TZID:America/Boise
BEGIN:DAYLIGHT
TZOFFSETFROM:-0700
TZOFFSETTO:-0600
TZNAME:MDT
DTSTART:20230312T090000
END:DAYLIGHT
BEGIN:STANDARD
TZOFFSETFROM:-0600
TZOFFSETTO:-0700
TZNAME:MST
DTSTART:20231105T080000
END:STANDARD
END:VTIMEZONE
BEGIN:VEVENT
DTSTART;TZID=America/Boise:20231101T183000
DTEND;TZID=America/Boise:20231101T183000
DTSTAMP:20260421T195414
CREATED:20230922T223941Z
LAST-MODIFIED:20231004T220643Z
UID:10000380-1698863400-1698863400@nampafirst.org
SUMMARY:Start Classes: Wednesdays
DESCRIPTION:The goal of our Start Classes is to help you grow in your relationship with Christ and take ownership of your discipleship. Once a series is completed\, we will repeat the series throughout the year and evaluate how effective these classes have been in meeting our Discipleship Initiative goals. These classes run from 30 minutes to an hour during our Grow Hour at 11am each Sunday in room S-4 behind the Sanctuary. \nYou are invited to participate in any or all of the following classes:  \n1.       You BELONG here! (How a relationship to Christ and a body of believers is important to your faith journey.)  \n2.       What we BELIEVE (Covering our Articles of Faith)  \n3.       BECOME your best you! (Spiritual Growth and the role of spiritual disciplines)  \n4.       “If you BUILD it\, they will come.”  (The Ministry of Serving at Nampa First)  \n5.       BAPTISM (An outward sign of an inward grace) 
URL:https://nampafirst.org/event/start-classes-wednesdays-6/
LOCATION:Conference Room
CATEGORIES:Wednesday Nights
ATTACH;FMTTYPE=image/jpeg:https://nampafirst.org/wp-content/uploads/2023/09/nfStartClasses1920x1080TitleOnly.jpg
END:VEVENT
BEGIN:VEVENT
DTSTART;TZID=America/Boise:20231101T183000
DTEND;TZID=America/Boise:20231101T183000
DTSTAMP:20260421T195414
CREATED:20230922T212853Z
LAST-MODIFIED:20230922T215901Z
UID:10000353-1698863400-1698863400@nampafirst.org
SUMMARY:Wednesday Night Groups
DESCRIPTION:Groups for all ages available.
URL:https://nampafirst.org/event/wednesday-night-groups-6/
LOCATION:Nampa First Church of the Nazarene
CATEGORIES:Wednesday Nights
ATTACH;FMTTYPE=image/jpeg:https://nampafirst.org/wp-content/uploads/2023/09/nfWednesdayNightGroups1920x1080TitleOnly.jpg
END:VEVENT
BEGIN:VEVENT
DTSTART;TZID=America/Boise:20231025T183000
DTEND;TZID=America/Boise:20231025T183000
DTSTAMP:20260421T195414
CREATED:20230922T223733Z
LAST-MODIFIED:20231004T220707Z
UID:10000379-1698258600-1698258600@nampafirst.org
SUMMARY:Start Classes: Wednesdays
DESCRIPTION:The goal of our Start Classes is to help you grow in your relationship with Christ and take ownership of your discipleship. Once a series is completed\, we will repeat the series throughout the year and evaluate how effective these classes have been in meeting our Discipleship Initiative goals. These classes run from 30 minutes to an hour during our Grow Hour at 11am each Sunday in room S-4 behind the Sanctuary. \nYou are invited to participate in any or all of the following classes:  \n1.       You BELONG here! (How a relationship to Christ and a body of believers is important to your faith journey.)  \n2.       What we BELIEVE (Covering our Articles of Faith)  \n3.       BECOME your best you! (Spiritual Growth and the role of spiritual disciplines)  \n4.       “If you BUILD it\, they will come.”  (The Ministry of Serving at Nampa First)  \n5.       BAPTISM (An outward sign of an inward grace) 
URL:https://nampafirst.org/event/start-classes-wednesdays-5/
LOCATION:Conference Room
CATEGORIES:Wednesday Nights
ATTACH;FMTTYPE=image/jpeg:https://nampafirst.org/wp-content/uploads/2023/09/nfStartClasses1920x1080TitleOnly.jpg
END:VEVENT
BEGIN:VEVENT
DTSTART;TZID=America/Boise:20231025T183000
DTEND;TZID=America/Boise:20231025T183000
DTSTAMP:20260421T195414
CREATED:20230922T212709Z
LAST-MODIFIED:20230922T215925Z
UID:10000352-1698258600-1698258600@nampafirst.org
SUMMARY:Wednesday Night Groups
DESCRIPTION:Groups for all ages available.
URL:https://nampafirst.org/event/wednesday-night-groups-5/
LOCATION:Nampa First Church of the Nazarene
CATEGORIES:Wednesday Nights
ATTACH;FMTTYPE=image/jpeg:https://nampafirst.org/wp-content/uploads/2023/09/nfWednesdayNightGroups1920x1080TitleOnly.jpg
END:VEVENT
BEGIN:VEVENT
DTSTART;TZID=America/Boise:20231018T183000
DTEND;TZID=America/Boise:20231018T183000
DTSTAMP:20260421T195414
CREATED:20230922T212604Z
LAST-MODIFIED:20230922T215947Z
UID:10000351-1697653800-1697653800@nampafirst.org
SUMMARY:Wednesday Night Groups
DESCRIPTION:Groups for all ages available.
URL:https://nampafirst.org/event/wednesday-night-groups-4/
LOCATION:Nampa First Church of the Nazarene
CATEGORIES:Wednesday Nights
ATTACH;FMTTYPE=image/jpeg:https://nampafirst.org/wp-content/uploads/2023/09/nfWednesdayNightGroups1920x1080TitleOnly.jpg
END:VEVENT
BEGIN:VEVENT
DTSTART;TZID=America/Boise:20231011T183000
DTEND;TZID=America/Boise:20231011T183000
DTSTAMP:20260421T195414
CREATED:20230922T223325Z
LAST-MODIFIED:20231004T220855Z
UID:10000377-1697049000-1697049000@nampafirst.org
SUMMARY:Start Classes: Wednesday
DESCRIPTION:The goal of our Start Classes is to help you grow in your relationship with Christ and take ownership of your discipleship. Once a series is completed\, we will repeat the series throughout the year and evaluate how effective these classes have been in meeting our Discipleship Initiative goals. These classes run from 30 minutes to an hour during our Grow Hour at 11am each Sunday in room S-4 behind the Sanctuary. \nYou are invited to participate in any or all of the following classes:  \n1.       You BELONG here! (How a relationship to Christ and a body of believers is important to your faith journey.)  \n2.       What we BELIEVE (Covering our Articles of Faith)  \n3.       BECOME your best you! (Spiritual Growth and the role of spiritual disciplines)  \n4.       “If you BUILD it\, they will come.”  (The Ministry of Serving at Nampa First)  \n5.       BAPTISM (An outward sign of an inward grace) 
URL:https://nampafirst.org/event/start-classes-wednesday/
LOCATION:Conference Room
CATEGORIES:Wednesday Nights
ATTACH;FMTTYPE=image/jpeg:https://nampafirst.org/wp-content/uploads/2023/09/nfStartClasses1920x1080TitleOnly.jpg
END:VEVENT
BEGIN:VEVENT
DTSTART;TZID=America/Boise:20231011T183000
DTEND;TZID=America/Boise:20231011T183000
DTSTAMP:20260421T195414
CREATED:20230922T212507Z
LAST-MODIFIED:20230922T220009Z
UID:10000350-1697049000-1697049000@nampafirst.org
SUMMARY:Wednesday Night Groups
DESCRIPTION:Groups for all ages available.
URL:https://nampafirst.org/event/wednesday-night-groups-3/
LOCATION:Nampa First Church of the Nazarene
CATEGORIES:Wednesday Nights
ATTACH;FMTTYPE=image/jpeg:https://nampafirst.org/wp-content/uploads/2023/09/nfWednesdayNightGroups1920x1080TitleOnly.jpg
END:VEVENT
BEGIN:VEVENT
DTSTART;TZID=America/Boise:20231004T183000
DTEND;TZID=America/Boise:20231004T183000
DTSTAMP:20260421T195414
CREATED:20230922T212351Z
LAST-MODIFIED:20230922T220031Z
UID:10000349-1696444200-1696444200@nampafirst.org
SUMMARY:Wednesday Night Groups
DESCRIPTION:Groups for all ages available.
URL:https://nampafirst.org/event/wednesday-night-groups-2/
LOCATION:Nampa First Church of the Nazarene
CATEGORIES:Wednesday Nights
ATTACH;FMTTYPE=image/jpeg:https://nampafirst.org/wp-content/uploads/2023/09/nfWednesdayNightGroups1920x1080TitleOnly.jpg
END:VEVENT
BEGIN:VEVENT
DTSTART;TZID=America/Boise:20230927T183000
DTEND;TZID=America/Boise:20230927T183000
DTSTAMP:20260421T195414
CREATED:20230922T212248Z
LAST-MODIFIED:20230922T220055Z
UID:10000348-1695839400-1695839400@nampafirst.org
SUMMARY:Wednesday Night Groups
DESCRIPTION:Groups for all ages available.
URL:https://nampafirst.org/event/wednesday-night-groups/
LOCATION:Nampa First Church of the Nazarene
CATEGORIES:Wednesday Nights
ATTACH;FMTTYPE=image/jpeg:https://nampafirst.org/wp-content/uploads/2023/09/nfWednesdayNightGroups1920x1080TitleOnly.jpg
END:VEVENT
BEGIN:VEVENT
DTSTART;VALUE=DATE:20230531
DTEND;VALUE=DATE:20230601
DTSTAMP:20260421T195414
CREATED:20230504T010320Z
LAST-MODIFIED:20230504T010356Z
UID:10000007-1685491200-1685577599@nampafirst.org
SUMMARY:Final Wednesday Night Activities
DESCRIPTION:This is the final date for Wednesday Night Activities\, including dinners\, until the Fall season begins September 6th.
URL:https://nampafirst.org/event/final-weds-night-activities/
LOCATION:Nampa First Church of the Nazarene
CATEGORIES:Wednesday Nights
ATTACH;FMTTYPE=image/jpeg:https://nampafirst.org/wp-content/uploads/2023/05/nfFinalWednesdayNightActDinners1920x1080OnlyTitle.jpg
END:VEVENT
END:VCALENDAR