BEGIN:VCALENDAR
VERSION:2.0
PRODID:-//Nampa First Church of the Nazarene - ECPv6.11.2.1//NONSGML v1.0//EN
CALSCALE:GREGORIAN
METHOD:PUBLISH
X-WR-CALNAME:Nampa First Church of the Nazarene
X-ORIGINAL-URL:https://nampafirst.org
X-WR-CALDESC:Events for Nampa First Church of the Nazarene
REFRESH-INTERVAL;VALUE=DURATION:PT1H
X-Robots-Tag:noindex
X-PUBLISHED-TTL:PT1H
BEGIN:VTIMEZONE
TZID:America/Boise
BEGIN:DAYLIGHT
TZOFFSETFROM:-0700
TZOFFSETTO:-0600
TZNAME:MDT
DTSTART:20230312T090000
END:DAYLIGHT
BEGIN:STANDARD
TZOFFSETFROM:-0600
TZOFFSETTO:-0700
TZNAME:MST
DTSTART:20231105T080000
END:STANDARD
BEGIN:DAYLIGHT
TZOFFSETFROM:-0700
TZOFFSETTO:-0600
TZNAME:MDT
DTSTART:20240310T090000
END:DAYLIGHT
BEGIN:STANDARD
TZOFFSETFROM:-0600
TZOFFSETTO:-0700
TZNAME:MST
DTSTART:20241103T080000
END:STANDARD
END:VTIMEZONE
BEGIN:VEVENT
DTSTART;TZID=America/Boise:20241222T110000
DTEND;TZID=America/Boise:20241222T120000
DTSTAMP:20260420T053028
CREATED:20240801T193108Z
LAST-MODIFIED:20260319T214648Z
UID:10001447-1734865200-1734868800@nampafirst.org
SUMMARY:Grow Hour
DESCRIPTION:
URL:https://nampafirst.org/event/grow-hour-10/2024-12-22/
LOCATION:Nampa First Church of the Nazarene
CATEGORIES:All Church,Sunday Classes
END:VEVENT
BEGIN:VEVENT
DTSTART;TZID=America/Boise:20241215T110000
DTEND;TZID=America/Boise:20241215T120000
DTSTAMP:20260420T053028
CREATED:20240801T193108Z
LAST-MODIFIED:20260319T214648Z
UID:10001446-1734260400-1734264000@nampafirst.org
SUMMARY:Grow Hour
DESCRIPTION:
URL:https://nampafirst.org/event/grow-hour-10/2024-12-15/
LOCATION:Nampa First Church of the Nazarene
CATEGORIES:All Church,Sunday Classes
END:VEVENT
BEGIN:VEVENT
DTSTART;TZID=America/Boise:20241208T110000
DTEND;TZID=America/Boise:20241208T120000
DTSTAMP:20260420T053028
CREATED:20240917T184810Z
LAST-MODIFIED:20241115T191157Z
UID:10000606-1733655600-1733659200@nampafirst.org
SUMMARY:Newcomers Coffee & Cinnamon Rolls
DESCRIPTION:
URL:https://nampafirst.org/event/newcomers-coffee-donuts/
LOCATION:Chapel
CATEGORIES:All Church,Sunday Classes
ORGANIZER;CN="Pastor Libby":MAILTO:lgerdes@nampafirst.org
END:VEVENT
BEGIN:VEVENT
DTSTART;TZID=America/Boise:20241208T110000
DTEND;TZID=America/Boise:20241208T120000
DTSTAMP:20260420T053028
CREATED:20240801T193108Z
LAST-MODIFIED:20260319T214648Z
UID:10001445-1733655600-1733659200@nampafirst.org
SUMMARY:Grow Hour
DESCRIPTION:
URL:https://nampafirst.org/event/grow-hour-10/2024-12-08/
LOCATION:Nampa First Church of the Nazarene
CATEGORIES:All Church,Sunday Classes
END:VEVENT
BEGIN:VEVENT
DTSTART;TZID=America/Boise:20241201T110000
DTEND;TZID=America/Boise:20241201T120000
DTSTAMP:20260420T053028
CREATED:20240801T193108Z
LAST-MODIFIED:20260319T214648Z
UID:10001444-1733050800-1733054400@nampafirst.org
SUMMARY:Grow Hour
DESCRIPTION:
URL:https://nampafirst.org/event/grow-hour-10/2024-12-01/
LOCATION:Nampa First Church of the Nazarene
CATEGORIES:All Church,Sunday Classes
END:VEVENT
BEGIN:VEVENT
DTSTART;TZID=America/Boise:20241124T110000
DTEND;TZID=America/Boise:20241124T120000
DTSTAMP:20260420T053028
CREATED:20240801T193108Z
LAST-MODIFIED:20260319T214648Z
UID:10001443-1732446000-1732449600@nampafirst.org
SUMMARY:Grow Hour
DESCRIPTION:
URL:https://nampafirst.org/event/grow-hour-10/2024-11-24/
LOCATION:Nampa First Church of the Nazarene
CATEGORIES:All Church,Sunday Classes
END:VEVENT
BEGIN:VEVENT
DTSTART;TZID=America/Boise:20241117T110000
DTEND;TZID=America/Boise:20241117T120000
DTSTAMP:20260420T053028
CREATED:20240801T193108Z
LAST-MODIFIED:20260319T214648Z
UID:10001442-1731841200-1731844800@nampafirst.org
SUMMARY:Grow Hour
DESCRIPTION:
URL:https://nampafirst.org/event/grow-hour-10/2024-11-17/
LOCATION:Nampa First Church of the Nazarene
CATEGORIES:All Church,Sunday Classes
END:VEVENT
BEGIN:VEVENT
DTSTART;TZID=America/Boise:20241110T110000
DTEND;TZID=America/Boise:20241110T120000
DTSTAMP:20260420T053028
CREATED:20240801T193108Z
LAST-MODIFIED:20260319T214648Z
UID:10001441-1731236400-1731240000@nampafirst.org
SUMMARY:Grow Hour
DESCRIPTION:
URL:https://nampafirst.org/event/grow-hour-10/2024-11-10/
LOCATION:Nampa First Church of the Nazarene
CATEGORIES:All Church,Sunday Classes
END:VEVENT
BEGIN:VEVENT
DTSTART;TZID=America/Boise:20241103T110000
DTEND;TZID=America/Boise:20241103T120000
DTSTAMP:20260420T053028
CREATED:20240801T193108Z
LAST-MODIFIED:20260319T214648Z
UID:10001440-1730631600-1730635200@nampafirst.org
SUMMARY:Grow Hour
DESCRIPTION:
URL:https://nampafirst.org/event/grow-hour-10/2024-11-03/
LOCATION:Nampa First Church of the Nazarene
CATEGORIES:All Church,Sunday Classes
END:VEVENT
BEGIN:VEVENT
DTSTART;TZID=America/Boise:20241027T110000
DTEND;TZID=America/Boise:20241027T120000
DTSTAMP:20260420T053028
CREATED:20240801T193108Z
LAST-MODIFIED:20260319T214648Z
UID:10001439-1730026800-1730030400@nampafirst.org
SUMMARY:Grow Hour
DESCRIPTION:
URL:https://nampafirst.org/event/grow-hour-10/2024-10-27/
LOCATION:Nampa First Church of the Nazarene
CATEGORIES:All Church,Sunday Classes
END:VEVENT
BEGIN:VEVENT
DTSTART;TZID=America/Boise:20241020T110000
DTEND;TZID=America/Boise:20241020T120000
DTSTAMP:20260420T053028
CREATED:20240801T193108Z
LAST-MODIFIED:20260319T214648Z
UID:10001438-1729422000-1729425600@nampafirst.org
SUMMARY:Grow Hour
DESCRIPTION:
URL:https://nampafirst.org/event/grow-hour-10/2024-10-20/
LOCATION:Nampa First Church of the Nazarene
CATEGORIES:All Church,Sunday Classes
END:VEVENT
BEGIN:VEVENT
DTSTART;TZID=America/Boise:20241013T110000
DTEND;TZID=America/Boise:20241013T120000
DTSTAMP:20260420T053028
CREATED:20240917T184640Z
LAST-MODIFIED:20240917T184943Z
UID:10000605-1728817200-1728820800@nampafirst.org
SUMMARY:Newcomers Coffee & Donuts
DESCRIPTION:
URL:https://nampafirst.org/event/newcomers-coffee-and-donuts/
LOCATION:Chapel
CATEGORIES:All Church,Sunday Classes
ORGANIZER;CN="Pastor Libby":MAILTO:lgerdes@nampafirst.org
END:VEVENT
BEGIN:VEVENT
DTSTART;TZID=America/Boise:20241013T110000
DTEND;TZID=America/Boise:20241013T120000
DTSTAMP:20260420T053028
CREATED:20240801T193108Z
LAST-MODIFIED:20260319T214648Z
UID:10001437-1728817200-1728820800@nampafirst.org
SUMMARY:Grow Hour
DESCRIPTION:
URL:https://nampafirst.org/event/grow-hour-10/2024-10-13/
LOCATION:Nampa First Church of the Nazarene
CATEGORIES:All Church,Sunday Classes
END:VEVENT
BEGIN:VEVENT
DTSTART;TZID=America/Boise:20241006T110000
DTEND;TZID=America/Boise:20241006T120000
DTSTAMP:20260420T053028
CREATED:20240801T193108Z
LAST-MODIFIED:20260319T214648Z
UID:10001436-1728212400-1728216000@nampafirst.org
SUMMARY:Grow Hour
DESCRIPTION:
URL:https://nampafirst.org/event/grow-hour-10/2024-10-06/
LOCATION:Nampa First Church of the Nazarene
CATEGORIES:All Church,Sunday Classes
END:VEVENT
BEGIN:VEVENT
DTSTART;TZID=America/Boise:20240929T110000
DTEND;TZID=America/Boise:20240929T120000
DTSTAMP:20260420T053028
CREATED:20240801T193108Z
LAST-MODIFIED:20260319T214648Z
UID:10001435-1727607600-1727611200@nampafirst.org
SUMMARY:Grow Hour
DESCRIPTION:
URL:https://nampafirst.org/event/grow-hour-10/2024-09-29/
LOCATION:Nampa First Church of the Nazarene
CATEGORIES:All Church,Sunday Classes
END:VEVENT
BEGIN:VEVENT
DTSTART;TZID=America/Boise:20240922T110000
DTEND;TZID=America/Boise:20240922T120000
DTSTAMP:20260420T053028
CREATED:20240801T193108Z
LAST-MODIFIED:20260319T214648Z
UID:10001434-1727002800-1727006400@nampafirst.org
SUMMARY:Grow Hour
DESCRIPTION:
URL:https://nampafirst.org/event/grow-hour-10/2024-09-22/
LOCATION:Nampa First Church of the Nazarene
CATEGORIES:All Church,Sunday Classes
END:VEVENT
BEGIN:VEVENT
DTSTART;TZID=America/Boise:20240915T110000
DTEND;TZID=America/Boise:20240915T120000
DTSTAMP:20260420T053028
CREATED:20240801T193108Z
LAST-MODIFIED:20260319T214648Z
UID:10001433-1726398000-1726401600@nampafirst.org
SUMMARY:Grow Hour
DESCRIPTION:
URL:https://nampafirst.org/event/grow-hour-10/2024-09-15/
LOCATION:Nampa First Church of the Nazarene
CATEGORIES:All Church,Sunday Classes
END:VEVENT
BEGIN:VEVENT
DTSTART;TZID=America/Boise:20240908T110000
DTEND;TZID=America/Boise:20240908T120000
DTSTAMP:20260420T053028
CREATED:20240801T192228Z
LAST-MODIFIED:20240801T192228Z
UID:10000540-1725793200-1725796800@nampafirst.org
SUMMARY:Grow Hour
DESCRIPTION:
URL:https://nampafirst.org/event/grow-hour-9/
LOCATION:Nampa First Church of the Nazarene
CATEGORIES:All Church,Sunday Classes
END:VEVENT
BEGIN:VEVENT
DTSTART;TZID=America/Boise:20240901T110000
DTEND;TZID=America/Boise:20240901T120000
DTSTAMP:20260420T053028
CREATED:20240801T183426Z
LAST-MODIFIED:20240801T183444Z
UID:10000536-1725188400-1725192000@nampafirst.org
SUMMARY:Grow Hour
DESCRIPTION:
URL:https://nampafirst.org/event/grow-hour-8/
LOCATION:Nampa First Church of the Nazarene
CATEGORIES:All Church,Sunday Classes
END:VEVENT
BEGIN:VEVENT
DTSTART;TZID=America/Boise:20240825T110000
DTEND;TZID=America/Boise:20240825T120000
DTSTAMP:20260420T053028
CREATED:20240719T222143Z
LAST-MODIFIED:20240719T222143Z
UID:10000528-1724583600-1724587200@nampafirst.org
SUMMARY:Grow Hour
DESCRIPTION:
URL:https://nampafirst.org/event/grow-hour-6/
LOCATION:Nampa First Church of the Nazarene
CATEGORIES:All Church,Sunday Classes
END:VEVENT
BEGIN:VEVENT
DTSTART;TZID=America/Boise:20240818T110000
DTEND;TZID=America/Boise:20240818T120000
DTSTAMP:20260420T053028
CREATED:20240719T221404Z
LAST-MODIFIED:20240719T221404Z
UID:10000523-1723978800-1723982400@nampafirst.org
SUMMARY:Grow Hour
DESCRIPTION:
URL:https://nampafirst.org/event/grow-hour-5/
LOCATION:Nampa First Church of the Nazarene
CATEGORIES:All Church,Sunday Classes
END:VEVENT
BEGIN:VEVENT
DTSTART;TZID=America/Boise:20240811T110000
DTEND;TZID=America/Boise:20240811T120000
DTSTAMP:20260420T053028
CREATED:20240719T220857Z
LAST-MODIFIED:20240719T220857Z
UID:10000520-1723374000-1723377600@nampafirst.org
SUMMARY:Grow Hour
DESCRIPTION:
URL:https://nampafirst.org/event/grow-hour-4/
LOCATION:Nampa First Church of the Nazarene
CATEGORIES:All Church,Sunday Classes
END:VEVENT
BEGIN:VEVENT
DTSTART;TZID=America/Boise:20231231T110000
DTEND;TZID=America/Boise:20231231T110000
DTSTAMP:20260420T053028
CREATED:20230922T222738Z
LAST-MODIFIED:20231004T220921Z
UID:10000373-1704020400-1704020400@nampafirst.org
SUMMARY:Start Classes: Sundays
DESCRIPTION:The goal of our Start Classes is to help you grow in your relationship with Christ and take ownership of your discipleship. Once a series is completed\, we will repeat the series throughout the year and evaluate how effective these classes have been in meeting our Discipleship Initiative goals. These classes run from 30 minutes to an hour during our Grow Hour at 11am each Sunday in room S-4 behind the Sanctuary. \nYou are invited to participate in any or all of the following classes:  \n1.       You BELONG here! (How a relationship to Christ and a body of believers is important to your faith journey.)  \n2.       What we BELIEVE (Covering our Articles of Faith)  \n3.       BECOME your best you! (Spiritual Growth and the role of spiritual disciplines)  \n4.       “If you BUILD it\, they will come.”  (The Ministry of Serving at Nampa First)  \n5.       BAPTISM (An outward sign of an inward grace) 
URL:https://nampafirst.org/event/start-classes-sundays-15/
LOCATION:S4
CATEGORIES:Sunday Classes
ATTACH;FMTTYPE=image/jpeg:https://nampafirst.org/wp-content/uploads/2023/09/nfStartClasses1920x1080TitleOnly.jpg
END:VEVENT
BEGIN:VEVENT
DTSTART;TZID=America/Boise:20231224T110000
DTEND;TZID=America/Boise:20231224T110000
DTSTAMP:20260420T053028
CREATED:20230922T222620Z
LAST-MODIFIED:20231004T220949Z
UID:10000372-1703415600-1703415600@nampafirst.org
SUMMARY:Start Classes: Sundays
DESCRIPTION:The goal of our Start Classes is to help you grow in your relationship with Christ and take ownership of your discipleship. Once a series is completed\, we will repeat the series throughout the year and evaluate how effective these classes have been in meeting our Discipleship Initiative goals. These classes run from 30 minutes to an hour during our Grow Hour at 11am each Sunday in room S-4 behind the Sanctuary. \nYou are invited to participate in any or all of the following classes:  \n1.       You BELONG here! (How a relationship to Christ and a body of believers is important to your faith journey.)  \n2.       What we BELIEVE (Covering our Articles of Faith)  \n3.       BECOME your best you! (Spiritual Growth and the role of spiritual disciplines)  \n4.       “If you BUILD it\, they will come.”  (The Ministry of Serving at Nampa First)  \n5.       BAPTISM (An outward sign of an inward grace) 
URL:https://nampafirst.org/event/start-classes-sundays-14/
LOCATION:S4
CATEGORIES:Sunday Classes
ATTACH;FMTTYPE=image/jpeg:https://nampafirst.org/wp-content/uploads/2023/09/nfStartClasses1920x1080TitleOnly.jpg
END:VEVENT
BEGIN:VEVENT
DTSTART;TZID=America/Boise:20231217T110000
DTEND;TZID=America/Boise:20231217T110000
DTSTAMP:20260420T053028
CREATED:20230922T222513Z
LAST-MODIFIED:20231004T221010Z
UID:10000371-1702810800-1702810800@nampafirst.org
SUMMARY:Start Classes: Sundays
DESCRIPTION:The goal of our Start Classes is to help you grow in your relationship with Christ and take ownership of your discipleship. Once a series is completed\, we will repeat the series throughout the year and evaluate how effective these classes have been in meeting our Discipleship Initiative goals. These classes run from 30 minutes to an hour during our Grow Hour at 11am each Sunday in room S-4 behind the Sanctuary. \nYou are invited to participate in any or all of the following classes:  \n1.       You BELONG here! (How a relationship to Christ and a body of believers is important to your faith journey.)  \n2.       What we BELIEVE (Covering our Articles of Faith)  \n3.       BECOME your best you! (Spiritual Growth and the role of spiritual disciplines)  \n4.       “If you BUILD it\, they will come.”  (The Ministry of Serving at Nampa First)  \n5.       BAPTISM (An outward sign of an inward grace) 
URL:https://nampafirst.org/event/start-classes-sundays-13/
LOCATION:S4
CATEGORIES:Sunday Classes
ATTACH;FMTTYPE=image/jpeg:https://nampafirst.org/wp-content/uploads/2023/09/nfStartClasses1920x1080TitleOnly.jpg
END:VEVENT
BEGIN:VEVENT
DTSTART;TZID=America/Boise:20231210T110000
DTEND;TZID=America/Boise:20231210T110000
DTSTAMP:20260420T053028
CREATED:20230922T222345Z
LAST-MODIFIED:20231004T221052Z
UID:10000370-1702206000-1702206000@nampafirst.org
SUMMARY:Start Classes: Sundays
DESCRIPTION:The goal of our Start Classes is to help you grow in your relationship with Christ and take ownership of your discipleship. Once a series is completed\, we will repeat the series throughout the year and evaluate how effective these classes have been in meeting our Discipleship Initiative goals. These classes run from 30 minutes to an hour during our Grow Hour at 11am each Sunday in room S-4 behind the Sanctuary. \nYou are invited to participate in any or all of the following classes:  \n1.       You BELONG here! (How a relationship to Christ and a body of believers is important to your faith journey.)  \n2.       What we BELIEVE (Covering our Articles of Faith)  \n3.       BECOME your best you! (Spiritual Growth and the role of spiritual disciplines)  \n4.       “If you BUILD it\, they will come.”  (The Ministry of Serving at Nampa First)  \n5.       BAPTISM (An outward sign of an inward grace) 
URL:https://nampafirst.org/event/start-classes-sundays-12/
LOCATION:S4
CATEGORIES:Sunday Classes
ATTACH;FMTTYPE=image/jpeg:https://nampafirst.org/wp-content/uploads/2023/09/nfStartClasses1920x1080TitleOnly.jpg
END:VEVENT
BEGIN:VEVENT
DTSTART;TZID=America/Boise:20231203T110000
DTEND;TZID=America/Boise:20231203T110000
DTSTAMP:20260420T053028
CREATED:20230922T222239Z
LAST-MODIFIED:20231004T221130Z
UID:10000369-1701601200-1701601200@nampafirst.org
SUMMARY:Start Classes: Sundays
DESCRIPTION:The goal of our Start Classes is to help you grow in your relationship with Christ and take ownership of your discipleship. Once a series is completed\, we will repeat the series throughout the year and evaluate how effective these classes have been in meeting our Discipleship Initiative goals. These classes run from 30 minutes to an hour during our Grow Hour at 11am each Sunday in room S-4 behind the Sanctuary. \nYou are invited to participate in any or all of the following classes:  \n1.       You BELONG here! (How a relationship to Christ and a body of believers is important to your faith journey.)  \n2.       What we BELIEVE (Covering our Articles of Faith)  \n3.       BECOME your best you! (Spiritual Growth and the role of spiritual disciplines)  \n4.       “If you BUILD it\, they will come.”  (The Ministry of Serving at Nampa First)  \n5.       BAPTISM (An outward sign of an inward grace) 
URL:https://nampafirst.org/event/start-classes-sundays-11/
LOCATION:S4
CATEGORIES:Sunday Classes
ATTACH;FMTTYPE=image/jpeg:https://nampafirst.org/wp-content/uploads/2023/09/nfStartClasses1920x1080TitleOnly.jpg
END:VEVENT
BEGIN:VEVENT
DTSTART;TZID=America/Boise:20231126T110000
DTEND;TZID=America/Boise:20231126T110000
DTSTAMP:20260420T053028
CREATED:20230922T221957Z
LAST-MODIFIED:20231004T221210Z
UID:10000368-1700996400-1700996400@nampafirst.org
SUMMARY:Start Classes: Sundays
DESCRIPTION:The goal of our Start Classes is to help you grow in your relationship with Christ and take ownership of your discipleship. Once a series is completed\, we will repeat the series throughout the year and evaluate how effective these classes have been in meeting our Discipleship Initiative goals. These classes run from 30 minutes to an hour during our Grow Hour at 11am each Sunday in room S-4 behind the Sanctuary. \nYou are invited to participate in any or all of the following classes:  \n1.       You BELONG here! (How a relationship to Christ and a body of believers is important to your faith journey.)  \n2.       What we BELIEVE (Covering our Articles of Faith)  \n3.       BECOME your best you! (Spiritual Growth and the role of spiritual disciplines)  \n4.       “If you BUILD it\, they will come.”  (The Ministry of Serving at Nampa First)  \n5.       BAPTISM (An outward sign of an inward grace) 
URL:https://nampafirst.org/event/start-classes-sundays-10/
LOCATION:S4
CATEGORIES:Sunday Classes
ATTACH;FMTTYPE=image/jpeg:https://nampafirst.org/wp-content/uploads/2023/09/nfStartClasses1920x1080TitleOnly.jpg
END:VEVENT
BEGIN:VEVENT
DTSTART;TZID=America/Boise:20231119T110000
DTEND;TZID=America/Boise:20231119T110000
DTSTAMP:20260420T053028
CREATED:20230922T221607Z
LAST-MODIFIED:20231004T221237Z
UID:10000389-1700391600-1700391600@nampafirst.org
SUMMARY:Start Classes: Sundays
DESCRIPTION:The goal of our Start Classes is to help you grow in your relationship with Christ and take ownership of your discipleship. Once a series is completed\, we will repeat the series throughout the year and evaluate how effective these classes have been in meeting our Discipleship Initiative goals. These classes run from 30 minutes to an hour during our Grow Hour at 11am each Sunday in room S-4 behind the Sanctuary. \nYou are invited to participate in any or all of the following classes:  \n1.       You BELONG here! (How a relationship to Christ and a body of believers is important to your faith journey.)  \n2.       What we BELIEVE (Covering our Articles of Faith)  \n3.       BECOME your best you! (Spiritual Growth and the role of spiritual disciplines)  \n4.       “If you BUILD it\, they will come.”  (The Ministry of Serving at Nampa First)  \n5.       BAPTISM (An outward sign of an inward grace) 
URL:https://nampafirst.org/event/start-classes-sundays-9/
LOCATION:S4
CATEGORIES:Sunday Classes
ATTACH;FMTTYPE=image/jpeg:https://nampafirst.org/wp-content/uploads/2023/09/nfStartClasses1920x1080TitleOnly.jpg
END:VEVENT
BEGIN:VEVENT
DTSTART;TZID=America/Boise:20231105T183000
DTEND;TZID=America/Boise:20231105T183000
DTSTAMP:20260420T053028
CREATED:20230922T221427Z
LAST-MODIFIED:20231031T175853Z
UID:10000390-1699209000-1699209000@nampafirst.org
SUMMARY:Start Classes: Sundays
DESCRIPTION:The goal of our Start Classes is to help you grow in your relationship with Christ and take ownership of your discipleship. Once a series is completed\, we will repeat the series throughout the year and evaluate how effective these classes have been in meeting our Discipleship Initiative goals. These classes run from 30 minutes to an hour during our Grow Hour at 11am each Sunday in room S-4 behind the Sanctuary. \nYou are invited to participate in any or all of the following classes:  \n1.       You BELONG here! (How a relationship to Christ and a body of believers is important to your faith journey.)  \n2.       What we BELIEVE (Covering our Articles of Faith)  \n3.       BECOME your best you! (Spiritual Growth and the role of spiritual disciplines)  \n4.       “If you BUILD it\, they will come.”  (The Ministry of Serving at Nampa First)  \n5.       BAPTISM (An outward sign of an inward grace) 
URL:https://nampafirst.org/event/start-classes-sundays-8/
LOCATION:S4
CATEGORIES:Sunday Classes
ATTACH;FMTTYPE=image/jpeg:https://nampafirst.org/wp-content/uploads/2023/09/nfStartClasses1920x1080TitleOnly.jpg
END:VEVENT
END:VCALENDAR