BEGIN:VCALENDAR
VERSION:2.0
PRODID:-//Nampa First Church of the Nazarene - ECPv6.11.2.1//NONSGML v1.0//EN
CALSCALE:GREGORIAN
METHOD:PUBLISH
X-ORIGINAL-URL:https://nampafirst.org
X-WR-CALDESC:Events for Nampa First Church of the Nazarene
REFRESH-INTERVAL;VALUE=DURATION:PT1H
X-Robots-Tag:noindex
X-PUBLISHED-TTL:PT1H
BEGIN:VTIMEZONE
TZID:America/Boise
BEGIN:DAYLIGHT
TZOFFSETFROM:-0700
TZOFFSETTO:-0600
TZNAME:MDT
DTSTART:20290311T090000
END:DAYLIGHT
BEGIN:STANDARD
TZOFFSETFROM:-0600
TZOFFSETTO:-0700
TZNAME:MST
DTSTART:20291104T080000
END:STANDARD
BEGIN:DAYLIGHT
TZOFFSETFROM:-0700
TZOFFSETTO:-0600
TZNAME:MDT
DTSTART:20300310T090000
END:DAYLIGHT
BEGIN:STANDARD
TZOFFSETFROM:-0600
TZOFFSETTO:-0700
TZNAME:MST
DTSTART:20301103T080000
END:STANDARD
END:VTIMEZONE
BEGIN:VEVENT
DTSTART;TZID=America/Boise:20290826T110000
DTEND;TZID=America/Boise:20290826T120000
DTSTAMP:20260421T070317
CREATED:20240801T193108Z
LAST-MODIFIED:20260319T214648Z
UID:10001690-1882436400-1882440000@nampafirst.org
SUMMARY:Grow Hour
DESCRIPTION:
URL:https://nampafirst.org/event/grow-hour-10/2029-08-26/
LOCATION:Nampa First Church of the Nazarene
CATEGORIES:All Church,Sunday Classes
END:VEVENT
BEGIN:VEVENT
DTSTART;TZID=America/Boise:20290902T110000
DTEND;TZID=America/Boise:20290902T120000
DTSTAMP:20260421T070317
CREATED:20240801T193108Z
LAST-MODIFIED:20260319T214648Z
UID:10001691-1883041200-1883044800@nampafirst.org
SUMMARY:Grow Hour
DESCRIPTION:
URL:https://nampafirst.org/event/grow-hour-10/2029-09-02/
LOCATION:Nampa First Church of the Nazarene
CATEGORIES:All Church,Sunday Classes
END:VEVENT
BEGIN:VEVENT
DTSTART;TZID=America/Boise:20290909T110000
DTEND;TZID=America/Boise:20290909T120000
DTSTAMP:20260421T070317
CREATED:20240801T193108Z
LAST-MODIFIED:20260319T214648Z
UID:10001692-1883646000-1883649600@nampafirst.org
SUMMARY:Grow Hour
DESCRIPTION:
URL:https://nampafirst.org/event/grow-hour-10/2029-09-09/
LOCATION:Nampa First Church of the Nazarene
CATEGORIES:All Church,Sunday Classes
END:VEVENT
BEGIN:VEVENT
DTSTART;TZID=America/Boise:20290916T110000
DTEND;TZID=America/Boise:20290916T120000
DTSTAMP:20260421T070317
CREATED:20240801T193108Z
LAST-MODIFIED:20260319T214648Z
UID:10001693-1884250800-1884254400@nampafirst.org
SUMMARY:Grow Hour
DESCRIPTION:
URL:https://nampafirst.org/event/grow-hour-10/2029-09-16/
LOCATION:Nampa First Church of the Nazarene
CATEGORIES:All Church,Sunday Classes
END:VEVENT
BEGIN:VEVENT
DTSTART;TZID=America/Boise:20290923T110000
DTEND;TZID=America/Boise:20290923T120000
DTSTAMP:20260421T070317
CREATED:20240801T193108Z
LAST-MODIFIED:20260319T214648Z
UID:10001694-1884855600-1884859200@nampafirst.org
SUMMARY:Grow Hour
DESCRIPTION:
URL:https://nampafirst.org/event/grow-hour-10/2029-09-23/
LOCATION:Nampa First Church of the Nazarene
CATEGORIES:All Church,Sunday Classes
END:VEVENT
BEGIN:VEVENT
DTSTART;TZID=America/Boise:20290930T110000
DTEND;TZID=America/Boise:20290930T120000
DTSTAMP:20260421T070317
CREATED:20240801T193108Z
LAST-MODIFIED:20260319T214648Z
UID:10001695-1885460400-1885464000@nampafirst.org
SUMMARY:Grow Hour
DESCRIPTION:
URL:https://nampafirst.org/event/grow-hour-10/2029-09-30/
LOCATION:Nampa First Church of the Nazarene
CATEGORIES:All Church,Sunday Classes
END:VEVENT
BEGIN:VEVENT
DTSTART;TZID=America/Boise:20291007T110000
DTEND;TZID=America/Boise:20291007T120000
DTSTAMP:20260421T070317
CREATED:20240801T193108Z
LAST-MODIFIED:20260319T214648Z
UID:10001696-1886065200-1886068800@nampafirst.org
SUMMARY:Grow Hour
DESCRIPTION:
URL:https://nampafirst.org/event/grow-hour-10/2029-10-07/
LOCATION:Nampa First Church of the Nazarene
CATEGORIES:All Church,Sunday Classes
END:VEVENT
BEGIN:VEVENT
DTSTART;TZID=America/Boise:20291014T110000
DTEND;TZID=America/Boise:20291014T120000
DTSTAMP:20260421T070317
CREATED:20240801T193108Z
LAST-MODIFIED:20260319T214648Z
UID:10001697-1886670000-1886673600@nampafirst.org
SUMMARY:Grow Hour
DESCRIPTION:
URL:https://nampafirst.org/event/grow-hour-10/2029-10-14/
LOCATION:Nampa First Church of the Nazarene
CATEGORIES:All Church,Sunday Classes
END:VEVENT
BEGIN:VEVENT
DTSTART;TZID=America/Boise:20291021T110000
DTEND;TZID=America/Boise:20291021T120000
DTSTAMP:20260421T070317
CREATED:20240801T193108Z
LAST-MODIFIED:20260319T214648Z
UID:10001698-1887274800-1887278400@nampafirst.org
SUMMARY:Grow Hour
DESCRIPTION:
URL:https://nampafirst.org/event/grow-hour-10/2029-10-21/
LOCATION:Nampa First Church of the Nazarene
CATEGORIES:All Church,Sunday Classes
END:VEVENT
BEGIN:VEVENT
DTSTART;TZID=America/Boise:20291028T110000
DTEND;TZID=America/Boise:20291028T120000
DTSTAMP:20260421T070317
CREATED:20240801T193108Z
LAST-MODIFIED:20260319T214648Z
UID:10001699-1887879600-1887883200@nampafirst.org
SUMMARY:Grow Hour
DESCRIPTION:
URL:https://nampafirst.org/event/grow-hour-10/2029-10-28/
LOCATION:Nampa First Church of the Nazarene
CATEGORIES:All Church,Sunday Classes
END:VEVENT
BEGIN:VEVENT
DTSTART;TZID=America/Boise:20291104T110000
DTEND;TZID=America/Boise:20291104T120000
DTSTAMP:20260421T070317
CREATED:20240801T193108Z
LAST-MODIFIED:20260319T214648Z
UID:10001700-1888484400-1888488000@nampafirst.org
SUMMARY:Grow Hour
DESCRIPTION:
URL:https://nampafirst.org/event/grow-hour-10/2029-11-04/
LOCATION:Nampa First Church of the Nazarene
CATEGORIES:All Church,Sunday Classes
END:VEVENT
BEGIN:VEVENT
DTSTART;TZID=America/Boise:20291111T110000
DTEND;TZID=America/Boise:20291111T120000
DTSTAMP:20260421T070317
CREATED:20240801T193108Z
LAST-MODIFIED:20260319T214648Z
UID:10001701-1889089200-1889092800@nampafirst.org
SUMMARY:Grow Hour
DESCRIPTION:
URL:https://nampafirst.org/event/grow-hour-10/2029-11-11/
LOCATION:Nampa First Church of the Nazarene
CATEGORIES:All Church,Sunday Classes
END:VEVENT
BEGIN:VEVENT
DTSTART;TZID=America/Boise:20291118T110000
DTEND;TZID=America/Boise:20291118T120000
DTSTAMP:20260421T070317
CREATED:20240801T193108Z
LAST-MODIFIED:20260319T214648Z
UID:10001702-1889694000-1889697600@nampafirst.org
SUMMARY:Grow Hour
DESCRIPTION:
URL:https://nampafirst.org/event/grow-hour-10/2029-11-18/
LOCATION:Nampa First Church of the Nazarene
CATEGORIES:All Church,Sunday Classes
END:VEVENT
BEGIN:VEVENT
DTSTART;TZID=America/Boise:20291125T110000
DTEND;TZID=America/Boise:20291125T120000
DTSTAMP:20260421T070317
CREATED:20240801T193108Z
LAST-MODIFIED:20260319T214648Z
UID:10001703-1890298800-1890302400@nampafirst.org
SUMMARY:Grow Hour
DESCRIPTION:
URL:https://nampafirst.org/event/grow-hour-10/2029-11-25/
LOCATION:Nampa First Church of the Nazarene
CATEGORIES:All Church,Sunday Classes
END:VEVENT
BEGIN:VEVENT
DTSTART;TZID=America/Boise:20291202T110000
DTEND;TZID=America/Boise:20291202T120000
DTSTAMP:20260421T070317
CREATED:20240801T193108Z
LAST-MODIFIED:20260319T214648Z
UID:10001704-1890903600-1890907200@nampafirst.org
SUMMARY:Grow Hour
DESCRIPTION:
URL:https://nampafirst.org/event/grow-hour-10/2029-12-02/
LOCATION:Nampa First Church of the Nazarene
CATEGORIES:All Church,Sunday Classes
END:VEVENT
BEGIN:VEVENT
DTSTART;TZID=America/Boise:20291209T110000
DTEND;TZID=America/Boise:20291209T120000
DTSTAMP:20260421T070317
CREATED:20240801T193108Z
LAST-MODIFIED:20260319T214648Z
UID:10001705-1891508400-1891512000@nampafirst.org
SUMMARY:Grow Hour
DESCRIPTION:
URL:https://nampafirst.org/event/grow-hour-10/2029-12-09/
LOCATION:Nampa First Church of the Nazarene
CATEGORIES:All Church,Sunday Classes
END:VEVENT
BEGIN:VEVENT
DTSTART;TZID=America/Boise:20291216T110000
DTEND;TZID=America/Boise:20291216T120000
DTSTAMP:20260421T070317
CREATED:20240801T193108Z
LAST-MODIFIED:20260319T214648Z
UID:10001706-1892113200-1892116800@nampafirst.org
SUMMARY:Grow Hour
DESCRIPTION:
URL:https://nampafirst.org/event/grow-hour-10/2029-12-16/
LOCATION:Nampa First Church of the Nazarene
CATEGORIES:All Church,Sunday Classes
END:VEVENT
BEGIN:VEVENT
DTSTART;TZID=America/Boise:20291223T110000
DTEND;TZID=America/Boise:20291223T120000
DTSTAMP:20260421T070317
CREATED:20240801T193108Z
LAST-MODIFIED:20260319T214648Z
UID:10001707-1892718000-1892721600@nampafirst.org
SUMMARY:Grow Hour
DESCRIPTION:
URL:https://nampafirst.org/event/grow-hour-10/2029-12-23/
LOCATION:Nampa First Church of the Nazarene
CATEGORIES:All Church,Sunday Classes
END:VEVENT
BEGIN:VEVENT
DTSTART;TZID=America/Boise:20291230T110000
DTEND;TZID=America/Boise:20291230T120000
DTSTAMP:20260421T070317
CREATED:20240801T193108Z
LAST-MODIFIED:20260319T214648Z
UID:10001708-1893322800-1893326400@nampafirst.org
SUMMARY:Grow Hour
DESCRIPTION:
URL:https://nampafirst.org/event/grow-hour-10/2029-12-30/
LOCATION:Nampa First Church of the Nazarene
CATEGORIES:All Church,Sunday Classes
END:VEVENT
BEGIN:VEVENT
DTSTART;TZID=America/Boise:20300106T110000
DTEND;TZID=America/Boise:20300106T120000
DTSTAMP:20260421T070317
CREATED:20240801T193108Z
LAST-MODIFIED:20260319T214648Z
UID:10001709-1893927600-1893931200@nampafirst.org
SUMMARY:Grow Hour
DESCRIPTION:
URL:https://nampafirst.org/event/grow-hour-10/2030-01-06/
LOCATION:Nampa First Church of the Nazarene
CATEGORIES:All Church,Sunday Classes
END:VEVENT
BEGIN:VEVENT
DTSTART;TZID=America/Boise:20300113T110000
DTEND;TZID=America/Boise:20300113T120000
DTSTAMP:20260421T070317
CREATED:20240801T193108Z
LAST-MODIFIED:20260319T214648Z
UID:10001710-1894532400-1894536000@nampafirst.org
SUMMARY:Grow Hour
DESCRIPTION:
URL:https://nampafirst.org/event/grow-hour-10/2030-01-13/
LOCATION:Nampa First Church of the Nazarene
CATEGORIES:All Church,Sunday Classes
END:VEVENT
BEGIN:VEVENT
DTSTART;TZID=America/Boise:20300120T110000
DTEND;TZID=America/Boise:20300120T120000
DTSTAMP:20260421T070317
CREATED:20240801T193108Z
LAST-MODIFIED:20260319T214648Z
UID:10001711-1895137200-1895140800@nampafirst.org
SUMMARY:Grow Hour
DESCRIPTION:
URL:https://nampafirst.org/event/grow-hour-10/2030-01-20/
LOCATION:Nampa First Church of the Nazarene
CATEGORIES:All Church,Sunday Classes
END:VEVENT
BEGIN:VEVENT
DTSTART;TZID=America/Boise:20300127T110000
DTEND;TZID=America/Boise:20300127T120000
DTSTAMP:20260421T070317
CREATED:20240801T193108Z
LAST-MODIFIED:20260319T214648Z
UID:10001712-1895742000-1895745600@nampafirst.org
SUMMARY:Grow Hour
DESCRIPTION:
URL:https://nampafirst.org/event/grow-hour-10/2030-01-27/
LOCATION:Nampa First Church of the Nazarene
CATEGORIES:All Church,Sunday Classes
END:VEVENT
BEGIN:VEVENT
DTSTART;TZID=America/Boise:20300203T110000
DTEND;TZID=America/Boise:20300203T120000
DTSTAMP:20260421T070317
CREATED:20240801T193108Z
LAST-MODIFIED:20260319T214648Z
UID:10001713-1896346800-1896350400@nampafirst.org
SUMMARY:Grow Hour
DESCRIPTION:
URL:https://nampafirst.org/event/grow-hour-10/2030-02-03/
LOCATION:Nampa First Church of the Nazarene
CATEGORIES:All Church,Sunday Classes
END:VEVENT
BEGIN:VEVENT
DTSTART;TZID=America/Boise:20300210T110000
DTEND;TZID=America/Boise:20300210T120000
DTSTAMP:20260421T070317
CREATED:20240801T193108Z
LAST-MODIFIED:20260319T214648Z
UID:10001714-1896951600-1896955200@nampafirst.org
SUMMARY:Grow Hour
DESCRIPTION:
URL:https://nampafirst.org/event/grow-hour-10/2030-02-10/
LOCATION:Nampa First Church of the Nazarene
CATEGORIES:All Church,Sunday Classes
END:VEVENT
BEGIN:VEVENT
DTSTART;TZID=America/Boise:20300217T110000
DTEND;TZID=America/Boise:20300217T120000
DTSTAMP:20260421T070317
CREATED:20240801T193108Z
LAST-MODIFIED:20260319T214648Z
UID:10001715-1897556400-1897560000@nampafirst.org
SUMMARY:Grow Hour
DESCRIPTION:
URL:https://nampafirst.org/event/grow-hour-10/2030-02-17/
LOCATION:Nampa First Church of the Nazarene
CATEGORIES:All Church,Sunday Classes
END:VEVENT
BEGIN:VEVENT
DTSTART;TZID=America/Boise:20300224T110000
DTEND;TZID=America/Boise:20300224T120000
DTSTAMP:20260421T070317
CREATED:20240801T193108Z
LAST-MODIFIED:20260319T214648Z
UID:10001716-1898161200-1898164800@nampafirst.org
SUMMARY:Grow Hour
DESCRIPTION:
URL:https://nampafirst.org/event/grow-hour-10/2030-02-24/
LOCATION:Nampa First Church of the Nazarene
CATEGORIES:All Church,Sunday Classes
END:VEVENT
BEGIN:VEVENT
DTSTART;TZID=America/Boise:20300303T110000
DTEND;TZID=America/Boise:20300303T120000
DTSTAMP:20260421T070317
CREATED:20240801T193108Z
LAST-MODIFIED:20260319T214648Z
UID:10001717-1898766000-1898769600@nampafirst.org
SUMMARY:Grow Hour
DESCRIPTION:
URL:https://nampafirst.org/event/grow-hour-10/2030-03-03/
LOCATION:Nampa First Church of the Nazarene
CATEGORIES:All Church,Sunday Classes
END:VEVENT
BEGIN:VEVENT
DTSTART;TZID=America/Boise:20300310T110000
DTEND;TZID=America/Boise:20300310T120000
DTSTAMP:20260421T070318
CREATED:20240801T193108Z
LAST-MODIFIED:20260319T214648Z
UID:10001718-1899370800-1899374400@nampafirst.org
SUMMARY:Grow Hour
DESCRIPTION:
URL:https://nampafirst.org/event/grow-hour-10/2030-03-10/
LOCATION:Nampa First Church of the Nazarene
CATEGORIES:All Church,Sunday Classes
END:VEVENT
BEGIN:VEVENT
DTSTART;TZID=America/Boise:20300317T110000
DTEND;TZID=America/Boise:20300317T120000
DTSTAMP:20260421T070318
CREATED:20240801T193108Z
LAST-MODIFIED:20260319T214648Z
UID:10001885-1899975600-1899979200@nampafirst.org
SUMMARY:Grow Hour
DESCRIPTION:
URL:https://nampafirst.org/event/grow-hour-10/2030-03-17/
LOCATION:Nampa First Church of the Nazarene
CATEGORIES:All Church,Sunday Classes
END:VEVENT
END:VCALENDAR