BEGIN:VCALENDAR
VERSION:2.0
PRODID:-//Nampa First Church of the Nazarene - ECPv6.11.2.1//NONSGML v1.0//EN
CALSCALE:GREGORIAN
METHOD:PUBLISH
X-ORIGINAL-URL:https://nampafirst.org
X-WR-CALDESC:Events for Nampa First Church of the Nazarene
REFRESH-INTERVAL;VALUE=DURATION:PT1H
X-Robots-Tag:noindex
X-PUBLISHED-TTL:PT1H
BEGIN:VTIMEZONE
TZID:America/Boise
BEGIN:DAYLIGHT
TZOFFSETFROM:-0700
TZOFFSETTO:-0600
TZNAME:MDT
DTSTART:20250309T090000
END:DAYLIGHT
BEGIN:STANDARD
TZOFFSETFROM:-0600
TZOFFSETTO:-0700
TZNAME:MST
DTSTART:20251102T080000
END:STANDARD
END:VTIMEZONE
BEGIN:VEVENT
DTSTART;TZID=America/Boise:20250302T110000
DTEND;TZID=America/Boise:20250302T120000
DTSTAMP:20260420T150746
CREATED:20240801T193108Z
LAST-MODIFIED:20260319T214648Z
UID:10001457-1740913200-1740916800@nampafirst.org
SUMMARY:Grow Hour
DESCRIPTION:
URL:https://nampafirst.org/event/grow-hour-10/2025-03-02/
LOCATION:Nampa First Church of the Nazarene
CATEGORIES:All Church,Sunday Classes
END:VEVENT
BEGIN:VEVENT
DTSTART;TZID=America/Boise:20250309T110000
DTEND;TZID=America/Boise:20250309T120000
DTSTAMP:20260420T150746
CREATED:20240801T193108Z
LAST-MODIFIED:20260319T214648Z
UID:10001458-1741518000-1741521600@nampafirst.org
SUMMARY:Grow Hour
DESCRIPTION:
URL:https://nampafirst.org/event/grow-hour-10/2025-03-09/
LOCATION:Nampa First Church of the Nazarene
CATEGORIES:All Church,Sunday Classes
END:VEVENT
BEGIN:VEVENT
DTSTART;TZID=America/Boise:20250309T110000
DTEND;TZID=America/Boise:20250309T120000
DTSTAMP:20260420T150746
CREATED:20240917T185235Z
LAST-MODIFIED:20240917T185235Z
UID:10000607-1741518000-1741521600@nampafirst.org
SUMMARY:Newcomers Coffee & Donuts
DESCRIPTION:
URL:https://nampafirst.org/event/newcomers-coffee-donuts-2/
LOCATION:Chapel
CATEGORIES:All Church,Sunday Classes
ORGANIZER;CN="Pastor Libby":MAILTO:lgerdes@nampafirst.org
END:VEVENT
BEGIN:VEVENT
DTSTART;TZID=America/Boise:20250316T110000
DTEND;TZID=America/Boise:20250316T120000
DTSTAMP:20260420T150746
CREATED:20240801T193108Z
LAST-MODIFIED:20260319T214648Z
UID:10001459-1742122800-1742126400@nampafirst.org
SUMMARY:Grow Hour
DESCRIPTION:
URL:https://nampafirst.org/event/grow-hour-10/2025-03-16/
LOCATION:Nampa First Church of the Nazarene
CATEGORIES:All Church,Sunday Classes
END:VEVENT
BEGIN:VEVENT
DTSTART;TZID=America/Boise:20250323T110000
DTEND;TZID=America/Boise:20250323T120000
DTSTAMP:20260420T150746
CREATED:20240801T193108Z
LAST-MODIFIED:20260319T214648Z
UID:10001460-1742727600-1742731200@nampafirst.org
SUMMARY:Grow Hour
DESCRIPTION:
URL:https://nampafirst.org/event/grow-hour-10/2025-03-23/
LOCATION:Nampa First Church of the Nazarene
CATEGORIES:All Church,Sunday Classes
END:VEVENT
BEGIN:VEVENT
DTSTART;TZID=America/Boise:20250330T110000
DTEND;TZID=America/Boise:20250330T120000
DTSTAMP:20260420T150746
CREATED:20240801T193108Z
LAST-MODIFIED:20260319T214648Z
UID:10001461-1743332400-1743336000@nampafirst.org
SUMMARY:Grow Hour
DESCRIPTION:
URL:https://nampafirst.org/event/grow-hour-10/2025-03-30/
LOCATION:Nampa First Church of the Nazarene
CATEGORIES:All Church,Sunday Classes
END:VEVENT
END:VCALENDAR