BEGIN:VCALENDAR
VERSION:2.0
PRODID:-//Nampa First Church of the Nazarene - ECPv6.11.2.1//NONSGML v1.0//EN
CALSCALE:GREGORIAN
METHOD:PUBLISH
X-WR-CALNAME:Nampa First Church of the Nazarene
X-ORIGINAL-URL:https://nampafirst.org
X-WR-CALDESC:Events for Nampa First Church of the Nazarene
REFRESH-INTERVAL;VALUE=DURATION:PT1H
X-Robots-Tag:noindex
X-PUBLISHED-TTL:PT1H
BEGIN:VTIMEZONE
TZID:America/Boise
BEGIN:DAYLIGHT
TZOFFSETFROM:-0700
TZOFFSETTO:-0600
TZNAME:MDT
DTSTART:20260308T090000
END:DAYLIGHT
BEGIN:STANDARD
TZOFFSETFROM:-0600
TZOFFSETTO:-0700
TZNAME:MST
DTSTART:20261101T080000
END:STANDARD
END:VTIMEZONE
BEGIN:VEVENT
DTSTART;TZID=America/Boise:20260419T093000
DTEND;TZID=America/Boise:20260419T103000
DTSTAMP:20260419T072336
CREATED:20240827T170339Z
LAST-MODIFIED:20260319T214339Z
UID:10000685-1776591000-1776594600@nampafirst.org
SUMMARY:Worship Service
DESCRIPTION:
URL:https://nampafirst.org/event/worship-service-16/2026-04-19/
LOCATION:Sanctuary
CATEGORIES:All Church,Worship
END:VEVENT
BEGIN:VEVENT
DTSTART;TZID=America/Boise:20260419T110000
DTEND;TZID=America/Boise:20260419T120000
DTSTAMP:20260419T072336
CREATED:20240801T193108Z
LAST-MODIFIED:20260319T214648Z
UID:10001515-1776596400-1776600000@nampafirst.org
SUMMARY:Grow Hour
DESCRIPTION:
URL:https://nampafirst.org/event/grow-hour-10/2026-04-19/
LOCATION:Nampa First Church of the Nazarene
CATEGORIES:All Church,Sunday Classes
END:VEVENT
BEGIN:VEVENT
DTSTART;TZID=America/Boise:20260419T180000
DTEND;TZID=America/Boise:20260419T190000
DTSTAMP:20260419T072336
CREATED:20260210T224709Z
LAST-MODIFIED:20260409T161244Z
UID:10002371-1776621600-1776625200@nampafirst.org
SUMMARY:Missions Service & Finger-Food Potluck
DESCRIPTION:
URL:https://nampafirst.org/event/missions-service-9/
LOCATION:Gym
CATEGORIES:All Church,Missions,Worship
END:VEVENT
END:VCALENDAR